BEGIN:VCALENDAR
VERSION:2.0
PRODID:-//Valpocultura - ECPv6.15.20//NONSGML v1.0//EN
CALSCALE:GREGORIAN
METHOD:PUBLISH
X-WR-CALNAME:Valpocultura
X-ORIGINAL-URL:https://valpocultura.cl
X-WR-CALDESC:Eventos para Valpocultura
REFRESH-INTERVAL;VALUE=DURATION:PT1H
X-Robots-Tag:noindex
X-PUBLISHED-TTL:PT1H
BEGIN:VTIMEZONE
TZID:America/Santiago
BEGIN:STANDARD
TZOFFSETFROM:-0300
TZOFFSETTO:-0400
TZNAME:-04
DTSTART:20250406T030000
END:STANDARD
BEGIN:DAYLIGHT
TZOFFSETFROM:-0400
TZOFFSETTO:-0300
TZNAME:-03
DTSTART:20250907T040000
END:DAYLIGHT
BEGIN:STANDARD
TZOFFSETFROM:-0300
TZOFFSETTO:-0400
TZNAME:-04
DTSTART:20260405T030000
END:STANDARD
BEGIN:DAYLIGHT
TZOFFSETFROM:-0400
TZOFFSETTO:-0300
TZNAME:-03
DTSTART:20260906T040000
END:DAYLIGHT
BEGIN:STANDARD
TZOFFSETFROM:-0300
TZOFFSETTO:-0400
TZNAME:-04
DTSTART:20270404T030000
END:STANDARD
BEGIN:DAYLIGHT
TZOFFSETFROM:-0400
TZOFFSETTO:-0300
TZNAME:-03
DTSTART:20270905T040000
END:DAYLIGHT
END:VTIMEZONE
BEGIN:VEVENT
DTSTART;TZID=America/Santiago:20260305T100000
DTEND;TZID=America/Santiago:20260329T190000
DTSTAMP:20260420T100007
CREATED:20260305T144424Z
LAST-MODIFIED:20260305T144424Z
UID:4528-1772704800-1774810800@valpocultura.cl
SUMMARY:Palacio Baburizza - Exposición "Sobremesa con Nemesio"
DESCRIPTION:Últimas semanas para visitar “Sobremesa con Nemesio” \nLa exposición colectiva que reúne obras de Nemesio Antúnez junto a generaciones de grabadores vinculados al @taller_99 estará abierta al público hasta el 29 de marzo. \nUna oportunidad para recorrer el legado del maestro y el diálogo creativo que ha marcado siete décadas de historia del grabado en Chile. \n@museobaburizza\nPaseo Yugoslavo 276\, cerro Alegre\nHasta el 29 de marzo\nMartes a domingo | 10:00 a 19:00 hrs\nEntrada gratuita \nTe esperamos en este espacio de encuentro entre arte\, memoria y creación colectiva.
URL:https://valpocultura.cl/evento/palacio-baburizza-exposicion-sobremesa-con-nemesio/
LOCATION:Museo Baburizza\, Paseo Yugoslavo 176\, Valparaíso\, Valparaíso\, Chile
CATEGORIES:Agenda Cultural Municipal,Exposición
ATTACH;FMTTYPE=image/jpeg:https://valpocultura.cl/wp-content/uploads/2026/03/Baburizza.jpg
END:VEVENT
BEGIN:VEVENT
DTSTART;VALUE=DATE:20260313
DTEND;VALUE=DATE:20260419
DTSTAMP:20260420T100007
CREATED:20260320T125500Z
LAST-MODIFIED:20260320T125500Z
UID:4611-1773360000-1776556799@valpocultura.cl
SUMMARY:Galería Municipal de Artes - Exposición "Micrología"
DESCRIPTION:Nueva Exposición en la Galería Municipal de Arte de Valparaíso. «Micrología» invita a mirar aquello que suele pasar desapercibido. Palabras cotidianas\, objetos gastados y gestos mínimos se desplazan de su función habitual para volverse presencia. \nLa exposición del artista colombiano Luis Fernando Bautista Rodríguez\, reúne las series Las palabras y las cosas y Paisajes domésticos\, donde fragmentos de la vida diaria revelan experiencias culturales\, afectivas y políticas. \nGalería Municipal de Arte de Valparaíso\nInauguración: viernes 13 de marzo a las 19:00 horas.\nAbierta a todo público hasta el 19 de abril\, de lunes a viernes de 10:00 a 18:00 horas. Sábados de 11:00 a 17:00 hrs.
URL:https://valpocultura.cl/evento/galeria-municipal-de-artes-exposicion-micrologia/
LOCATION:Galería Municipal de Arte\, Condell 1550\, Valparaíso\, Valparaíso\, 2340000\, Chile
CATEGORIES:Agenda Cultural Municipal,Exposición
ATTACH;FMTTYPE=image/jpeg:https://valpocultura.cl/wp-content/uploads/2026/03/Micrologia.jpg
END:VEVENT
END:VCALENDAR